BEGIN:VCALENDAR
VERSION:2.0
PRODID:-//Trinity Brighton Uniting Church - ECPv4.5.2.1//NONSGML v1.0//EN
CALSCALE:GREGORIAN
METHOD:PUBLISH
X-WR-CALNAME:Trinity Brighton Uniting Church
X-ORIGINAL-URL:http://trinitybrighton.org.au
X-WR-CALDESC:Events for Trinity Brighton Uniting Church
BEGIN:VEVENT
DTSTART;TZID=UTC+0:20180302T140000
DTEND;TZID=UTC+0:20180302T150000
DTSTAMP:20180225T212204
CREATED:20180225T065704Z
LAST-MODIFIED:20180225T065811Z
UID:8391-1519999200-1520002800@trinitybrighton.org.au
SUMMARY:World Day of Prayer
DESCRIPTION:\nBrighton Covenant Churches\nWorld Day of Prayer\nFriday 2nd March\n2pm\nTrinity Uniting Church\n
URL:http://trinitybrighton.org.au/event/world-day-of-prayer/
LOCATION:17 Black Street\, Brighton\, Victoria\, 3186\, Australia
END:VEVENT
END:VCALENDAR